BEGIN:VCALENDAR
VERSION:2.0
PRODID:-//Pioneer Baptist Church - ECPv6.15.18//NONSGML v1.0//EN
CALSCALE:GREGORIAN
METHOD:PUBLISH
X-WR-CALNAME:Pioneer Baptist Church
X-ORIGINAL-URL:https://pioneerthechurch.ca
X-WR-CALDESC:Events for Pioneer Baptist Church
REFRESH-INTERVAL;VALUE=DURATION:PT1H
X-Robots-Tag:noindex
X-PUBLISHED-TTL:PT1H
BEGIN:VTIMEZONE
TZID:UTC
BEGIN:STANDARD
TZOFFSETFROM:+0000
TZOFFSETTO:+0000
TZNAME:UTC
DTSTART:20250101T000000
END:STANDARD
END:VTIMEZONE
BEGIN:VEVENT
DTSTART;VALUE=DATE:20260419
DTEND;VALUE=DATE:20260420
DTSTAMP:20260417T221132
CREATED:20251021T085547Z
LAST-MODIFIED:20260106T152041Z
UID:52465-1776556800-1776643199@pioneerthechurch.ca
SUMMARY:Potluck Lunches | April 19\, 2026
DESCRIPTION:
URL:https://pioneerthechurch.ca/event/potluck-lunches-april-19-2026/
CATEGORIES:Dinner Party
ATTACH;FMTTYPE=image/jpeg:https://pioneerthechurch.ca/wp-content/uploads/2025/10/selective-of-hands-taking-food-from-a-buffet-durin-2025-02-02-21-17-23-utc.jpg
END:VEVENT
END:VCALENDAR